BEGIN:VCALENDAR
VERSION:2.0
PRODID:-// - ECPv6.15.20//NONSGML v1.0//EN
CALSCALE:GREGORIAN
METHOD:PUBLISH
X-ORIGINAL-URL:https://ctprays.org
X-WR-CALDESC:Events for 
REFRESH-INTERVAL;VALUE=DURATION:PT1H
X-Robots-Tag:noindex
X-PUBLISHED-TTL:PT1H
BEGIN:VTIMEZONE
TZID:UTC
BEGIN:STANDARD
TZOFFSETFROM:+0000
TZOFFSETTO:+0000
TZNAME:UTC
DTSTART:20210101T000000
END:STANDARD
END:VTIMEZONE
BEGIN:VEVENT
DTSTART;TZID=UTC:20240801T000000
DTEND;TZID=UTC:20240802T000000
DTSTAMP:20260423T172437
CREATED:20220613T174838Z
LAST-MODIFIED:20220613T174838Z
UID:7761-1722470400-1722556800@ctprays.org
SUMMARY:Wellspring
DESCRIPTION:
URL:https://ctprays.org/event/wellspring/2024-08-01/
LOCATION:Wellspring Church\, 222 Lincolin Street\, Kensington\, 06037\, United States
END:VEVENT
BEGIN:VEVENT
DTSTART;TZID=UTC:20240704T000000
DTEND;TZID=UTC:20240705T000000
DTSTAMP:20260423T172437
CREATED:20220613T174838Z
LAST-MODIFIED:20220613T174838Z
UID:7760-1720051200-1720137600@ctprays.org
SUMMARY:Wellspring
DESCRIPTION:
URL:https://ctprays.org/event/wellspring/2024-07-04/
LOCATION:Wellspring Church\, 222 Lincolin Street\, Kensington\, 06037\, United States
END:VEVENT
BEGIN:VEVENT
DTSTART;TZID=UTC:20240606T000000
DTEND;TZID=UTC:20240607T000000
DTSTAMP:20260423T172437
CREATED:20220613T174838Z
LAST-MODIFIED:20220613T174838Z
UID:7759-1717632000-1717718400@ctprays.org
SUMMARY:Wellspring
DESCRIPTION:
URL:https://ctprays.org/event/wellspring/2024-06-06/
LOCATION:Wellspring Church\, 222 Lincolin Street\, Kensington\, 06037\, United States
END:VEVENT
BEGIN:VEVENT
DTSTART;TZID=UTC:20240502T000000
DTEND;TZID=UTC:20240503T000000
DTSTAMP:20260423T172437
CREATED:20220613T174838Z
LAST-MODIFIED:20220613T174838Z
UID:7758-1714608000-1714694400@ctprays.org
SUMMARY:Wellspring
DESCRIPTION:
URL:https://ctprays.org/event/wellspring/2024-05-02/
LOCATION:Wellspring Church\, 222 Lincolin Street\, Kensington\, 06037\, United States
END:VEVENT
BEGIN:VEVENT
DTSTART;TZID=UTC:20220707T000000
DTEND;TZID=UTC:20220708T000000
DTSTAMP:20260423T172437
CREATED:20220613T174838Z
LAST-MODIFIED:20240125T211738Z
UID:4973-1657152000-1657238400@ctprays.org
SUMMARY:Wellspring
DESCRIPTION:
URL:https://ctprays.org/event/wellspring/2022-07-07/
LOCATION:Wellspring Church\, 222 Lincolin Street\, Kensington\, 06037\, United States
END:VEVENT
END:VCALENDAR