BEGIN:VCALENDAR
VERSION:2.0
PRODID:-// - ECPv6.15.20//NONSGML v1.0//EN
CALSCALE:GREGORIAN
METHOD:PUBLISH
X-ORIGINAL-URL:https://ctprays.org
X-WR-CALDESC:Events for 
REFRESH-INTERVAL;VALUE=DURATION:PT1H
X-Robots-Tag:noindex
X-PUBLISHED-TTL:PT1H
BEGIN:VTIMEZONE
TZID:UTC
BEGIN:STANDARD
TZOFFSETFROM:+0000
TZOFFSETTO:+0000
TZNAME:UTC
DTSTART:20210101T000000
END:STANDARD
END:VTIMEZONE
BEGIN:VEVENT
DTSTART;TZID=UTC:20251211T000000
DTEND;TZID=UTC:20251212T000000
DTSTAMP:20260424T073439
CREATED:20220615T190420Z
LAST-MODIFIED:20220615T190420Z
UID:7893-1765411200-1765497600@ctprays.org
SUMMARY:Harvest Time Church
DESCRIPTION:
URL:https://ctprays.org/event/harvest-time-church/2025-12-11/
LOCATION:Harvest Time Church
END:VEVENT
BEGIN:VEVENT
DTSTART;TZID=UTC:20251113T000000
DTEND;TZID=UTC:20251114T000000
DTSTAMP:20260424T073439
CREATED:20220615T190420Z
LAST-MODIFIED:20220615T190420Z
UID:7892-1762992000-1763078400@ctprays.org
SUMMARY:Harvest Time Church
DESCRIPTION:
URL:https://ctprays.org/event/harvest-time-church/2025-11-13/
LOCATION:Harvest Time Church
END:VEVENT
BEGIN:VEVENT
DTSTART;TZID=UTC:20251009T000000
DTEND;TZID=UTC:20251010T000000
DTSTAMP:20260424T073439
CREATED:20220615T190420Z
LAST-MODIFIED:20220615T190420Z
UID:7891-1759968000-1760054400@ctprays.org
SUMMARY:Harvest Time Church
DESCRIPTION:
URL:https://ctprays.org/event/harvest-time-church/2025-10-09/
LOCATION:Harvest Time Church
END:VEVENT
BEGIN:VEVENT
DTSTART;TZID=UTC:20250911T000000
DTEND;TZID=UTC:20250912T000000
DTSTAMP:20260424T073439
CREATED:20220615T190420Z
LAST-MODIFIED:20220615T190420Z
UID:7890-1757548800-1757635200@ctprays.org
SUMMARY:Harvest Time Church
DESCRIPTION:
URL:https://ctprays.org/event/harvest-time-church/2025-09-11/
LOCATION:Harvest Time Church
END:VEVENT
BEGIN:VEVENT
DTSTART;TZID=UTC:20250814T000000
DTEND;TZID=UTC:20250815T000000
DTSTAMP:20260424T073439
CREATED:20220615T190420Z
LAST-MODIFIED:20220615T190420Z
UID:7889-1755129600-1755216000@ctprays.org
SUMMARY:Harvest Time Church
DESCRIPTION:
URL:https://ctprays.org/event/harvest-time-church/2025-08-14/
LOCATION:Harvest Time Church
END:VEVENT
BEGIN:VEVENT
DTSTART;TZID=UTC:20250710T000000
DTEND;TZID=UTC:20250711T000000
DTSTAMP:20260424T073439
CREATED:20220615T190420Z
LAST-MODIFIED:20220615T190420Z
UID:7888-1752105600-1752192000@ctprays.org
SUMMARY:Harvest Time Church
DESCRIPTION:
URL:https://ctprays.org/event/harvest-time-church/2025-07-10/
LOCATION:Harvest Time Church
END:VEVENT
BEGIN:VEVENT
DTSTART;TZID=UTC:20250612T000000
DTEND;TZID=UTC:20250613T000000
DTSTAMP:20260424T073439
CREATED:20220615T190420Z
LAST-MODIFIED:20220615T190420Z
UID:7887-1749686400-1749772800@ctprays.org
SUMMARY:Harvest Time Church
DESCRIPTION:
URL:https://ctprays.org/event/harvest-time-church/2025-06-12/
LOCATION:Harvest Time Church
END:VEVENT
BEGIN:VEVENT
DTSTART;TZID=UTC:20250508T000000
DTEND;TZID=UTC:20250509T000000
DTSTAMP:20260424T073439
CREATED:20220615T190420Z
LAST-MODIFIED:20220615T190420Z
UID:7886-1746662400-1746748800@ctprays.org
SUMMARY:Harvest Time Church
DESCRIPTION:
URL:https://ctprays.org/event/harvest-time-church/2025-05-08/
LOCATION:Harvest Time Church
END:VEVENT
BEGIN:VEVENT
DTSTART;TZID=UTC:20250410T000000
DTEND;TZID=UTC:20250411T000000
DTSTAMP:20260424T073439
CREATED:20220615T190420Z
LAST-MODIFIED:20220615T190420Z
UID:7885-1744243200-1744329600@ctprays.org
SUMMARY:Harvest Time Church
DESCRIPTION:
URL:https://ctprays.org/event/harvest-time-church/2025-04-10/
LOCATION:Harvest Time Church
END:VEVENT
BEGIN:VEVENT
DTSTART;TZID=UTC:20250313T000000
DTEND;TZID=UTC:20250314T000000
DTSTAMP:20260424T073439
CREATED:20220615T190420Z
LAST-MODIFIED:20220615T190420Z
UID:7884-1741824000-1741910400@ctprays.org
SUMMARY:Harvest Time Church
DESCRIPTION:
URL:https://ctprays.org/event/harvest-time-church/2025-03-13/
LOCATION:Harvest Time Church
END:VEVENT
BEGIN:VEVENT
DTSTART;TZID=UTC:20250213T000000
DTEND;TZID=UTC:20250214T000000
DTSTAMP:20260424T073439
CREATED:20220615T190420Z
LAST-MODIFIED:20220615T190420Z
UID:7883-1739404800-1739491200@ctprays.org
SUMMARY:Harvest Time Church
DESCRIPTION:
URL:https://ctprays.org/event/harvest-time-church/2025-02-13/
LOCATION:Harvest Time Church
END:VEVENT
BEGIN:VEVENT
DTSTART;TZID=UTC:20250109T000000
DTEND;TZID=UTC:20250110T000000
DTSTAMP:20260424T073439
CREATED:20220615T190420Z
LAST-MODIFIED:20220615T190420Z
UID:7882-1736380800-1736467200@ctprays.org
SUMMARY:Harvest Time Church
DESCRIPTION:
URL:https://ctprays.org/event/harvest-time-church/2025-01-09/
LOCATION:Harvest Time Church
END:VEVENT
BEGIN:VEVENT
DTSTART;TZID=UTC:20241212T000000
DTEND;TZID=UTC:20241213T000000
DTSTAMP:20260424T073439
CREATED:20220615T190420Z
LAST-MODIFIED:20220615T190420Z
UID:7881-1733961600-1734048000@ctprays.org
SUMMARY:Harvest Time Church
DESCRIPTION:
URL:https://ctprays.org/event/harvest-time-church/2024-12-12/
LOCATION:Harvest Time Church
END:VEVENT
BEGIN:VEVENT
DTSTART;TZID=UTC:20241114T000000
DTEND;TZID=UTC:20241115T000000
DTSTAMP:20260424T073439
CREATED:20220615T190420Z
LAST-MODIFIED:20220615T190420Z
UID:7880-1731542400-1731628800@ctprays.org
SUMMARY:Harvest Time Church
DESCRIPTION:
URL:https://ctprays.org/event/harvest-time-church/2024-11-14/
LOCATION:Harvest Time Church
END:VEVENT
BEGIN:VEVENT
DTSTART;TZID=UTC:20241010T000000
DTEND;TZID=UTC:20241011T000000
DTSTAMP:20260424T073439
CREATED:20220615T190420Z
LAST-MODIFIED:20220615T190420Z
UID:7879-1728518400-1728604800@ctprays.org
SUMMARY:Harvest Time Church
DESCRIPTION:
URL:https://ctprays.org/event/harvest-time-church/2024-10-10/
LOCATION:Harvest Time Church
END:VEVENT
BEGIN:VEVENT
DTSTART;TZID=UTC:20240912T000000
DTEND;TZID=UTC:20240913T000000
DTSTAMP:20260424T073439
CREATED:20220615T190420Z
LAST-MODIFIED:20220615T190420Z
UID:7878-1726099200-1726185600@ctprays.org
SUMMARY:Harvest Time Church
DESCRIPTION:
URL:https://ctprays.org/event/harvest-time-church/2024-09-12/
LOCATION:Harvest Time Church
END:VEVENT
BEGIN:VEVENT
DTSTART;TZID=UTC:20240808T000000
DTEND;TZID=UTC:20240809T000000
DTSTAMP:20260424T073439
CREATED:20220615T190420Z
LAST-MODIFIED:20220615T190420Z
UID:7877-1723075200-1723161600@ctprays.org
SUMMARY:Harvest Time Church
DESCRIPTION:
URL:https://ctprays.org/event/harvest-time-church/2024-08-08/
LOCATION:Harvest Time Church
END:VEVENT
BEGIN:VEVENT
DTSTART;TZID=UTC:20240711T000000
DTEND;TZID=UTC:20240712T000000
DTSTAMP:20260424T073439
CREATED:20220615T190420Z
LAST-MODIFIED:20220615T190420Z
UID:7876-1720656000-1720742400@ctprays.org
SUMMARY:Harvest Time Church
DESCRIPTION:
URL:https://ctprays.org/event/harvest-time-church/2024-07-11/
LOCATION:Harvest Time Church
END:VEVENT
BEGIN:VEVENT
DTSTART;TZID=UTC:20240613T000000
DTEND;TZID=UTC:20240614T000000
DTSTAMP:20260424T073439
CREATED:20220615T190420Z
LAST-MODIFIED:20220615T190420Z
UID:7875-1718236800-1718323200@ctprays.org
SUMMARY:Harvest Time Church
DESCRIPTION:
URL:https://ctprays.org/event/harvest-time-church/2024-06-13/
LOCATION:Harvest Time Church
END:VEVENT
BEGIN:VEVENT
DTSTART;TZID=UTC:20240509T000000
DTEND;TZID=UTC:20240510T000000
DTSTAMP:20260424T073439
CREATED:20220615T190420Z
LAST-MODIFIED:20220615T190420Z
UID:7874-1715212800-1715299200@ctprays.org
SUMMARY:Harvest Time Church
DESCRIPTION:
URL:https://ctprays.org/event/harvest-time-church/2024-05-09/
LOCATION:Harvest Time Church
END:VEVENT
BEGIN:VEVENT
DTSTART;TZID=UTC:20220714T000000
DTEND;TZID=UTC:20220715T000000
DTSTAMP:20260424T073439
CREATED:20220615T190420Z
LAST-MODIFIED:20240125T212150Z
UID:5810-1657756800-1657843200@ctprays.org
SUMMARY:Harvest Time Church
DESCRIPTION:
URL:https://ctprays.org/event/harvest-time-church/2022-07-14/
LOCATION:Harvest Time Church
END:VEVENT
END:VCALENDAR