BEGIN:VCALENDAR
VERSION:2.0
PRODID:-// - ECPv6.15.20//NONSGML v1.0//EN
CALSCALE:GREGORIAN
METHOD:PUBLISH
X-ORIGINAL-URL:https://ctprays.org
X-WR-CALDESC:Events for 
REFRESH-INTERVAL;VALUE=DURATION:PT1H
X-Robots-Tag:noindex
X-PUBLISHED-TTL:PT1H
BEGIN:VTIMEZONE
TZID:UTC
BEGIN:STANDARD
TZOFFSETFROM:+0000
TZOFFSETTO:+0000
TZNAME:UTC
DTSTART:20210101T000000
END:STANDARD
END:VTIMEZONE
BEGIN:VEVENT
DTSTART;TZID=UTC:20251209T000000
DTEND;TZID=UTC:20251209T120000
DTSTAMP:20260423T234248
CREATED:20220615T145553Z
LAST-MODIFIED:20220615T145553Z
UID:7544-1765238400-1765281600@ctprays.org
SUMMARY:Living Stones Church
DESCRIPTION:
URL:https://ctprays.org/event/living-stones-church/2025-12-09/
LOCATION:Living Stones Church\, New Milford\, CT\, United States
END:VEVENT
BEGIN:VEVENT
DTSTART;TZID=UTC:20251111T000000
DTEND;TZID=UTC:20251111T120000
DTSTAMP:20260423T234248
CREATED:20220615T145553Z
LAST-MODIFIED:20220615T145553Z
UID:7543-1762819200-1762862400@ctprays.org
SUMMARY:Living Stones Church
DESCRIPTION:
URL:https://ctprays.org/event/living-stones-church/2025-11-11/
LOCATION:Living Stones Church\, New Milford\, CT\, United States
END:VEVENT
BEGIN:VEVENT
DTSTART;TZID=UTC:20251014T000000
DTEND;TZID=UTC:20251014T120000
DTSTAMP:20260423T234248
CREATED:20220615T145553Z
LAST-MODIFIED:20220615T145553Z
UID:7542-1760400000-1760443200@ctprays.org
SUMMARY:Living Stones Church
DESCRIPTION:
URL:https://ctprays.org/event/living-stones-church/2025-10-14/
LOCATION:Living Stones Church\, New Milford\, CT\, United States
END:VEVENT
BEGIN:VEVENT
DTSTART;TZID=UTC:20250909T000000
DTEND;TZID=UTC:20250909T120000
DTSTAMP:20260423T234248
CREATED:20220615T145553Z
LAST-MODIFIED:20220615T145553Z
UID:7541-1757376000-1757419200@ctprays.org
SUMMARY:Living Stones Church
DESCRIPTION:
URL:https://ctprays.org/event/living-stones-church/2025-09-09/
LOCATION:Living Stones Church\, New Milford\, CT\, United States
END:VEVENT
BEGIN:VEVENT
DTSTART;TZID=UTC:20250812T000000
DTEND;TZID=UTC:20250812T120000
DTSTAMP:20260423T234248
CREATED:20220615T145553Z
LAST-MODIFIED:20220615T145553Z
UID:7540-1754956800-1755000000@ctprays.org
SUMMARY:Living Stones Church
DESCRIPTION:
URL:https://ctprays.org/event/living-stones-church/2025-08-12/
LOCATION:Living Stones Church\, New Milford\, CT\, United States
END:VEVENT
BEGIN:VEVENT
DTSTART;TZID=UTC:20250708T000000
DTEND;TZID=UTC:20250708T120000
DTSTAMP:20260423T234248
CREATED:20220615T145553Z
LAST-MODIFIED:20220615T145553Z
UID:7539-1751932800-1751976000@ctprays.org
SUMMARY:Living Stones Church
DESCRIPTION:
URL:https://ctprays.org/event/living-stones-church/2025-07-08/
LOCATION:Living Stones Church\, New Milford\, CT\, United States
END:VEVENT
BEGIN:VEVENT
DTSTART;TZID=UTC:20250610T000000
DTEND;TZID=UTC:20250610T120000
DTSTAMP:20260423T234248
CREATED:20220615T145553Z
LAST-MODIFIED:20220615T145553Z
UID:7538-1749513600-1749556800@ctprays.org
SUMMARY:Living Stones Church
DESCRIPTION:
URL:https://ctprays.org/event/living-stones-church/2025-06-10/
LOCATION:Living Stones Church\, New Milford\, CT\, United States
END:VEVENT
BEGIN:VEVENT
DTSTART;TZID=UTC:20250513T000000
DTEND;TZID=UTC:20250513T120000
DTSTAMP:20260423T234248
CREATED:20220615T145553Z
LAST-MODIFIED:20220615T145553Z
UID:7537-1747094400-1747137600@ctprays.org
SUMMARY:Living Stones Church
DESCRIPTION:
URL:https://ctprays.org/event/living-stones-church/2025-05-13/
LOCATION:Living Stones Church\, New Milford\, CT\, United States
END:VEVENT
BEGIN:VEVENT
DTSTART;TZID=UTC:20250408T000000
DTEND;TZID=UTC:20250408T120000
DTSTAMP:20260423T234248
CREATED:20220615T145553Z
LAST-MODIFIED:20220615T145553Z
UID:7536-1744070400-1744113600@ctprays.org
SUMMARY:Living Stones Church
DESCRIPTION:
URL:https://ctprays.org/event/living-stones-church/2025-04-08/
LOCATION:Living Stones Church\, New Milford\, CT\, United States
END:VEVENT
BEGIN:VEVENT
DTSTART;TZID=UTC:20250311T000000
DTEND;TZID=UTC:20250311T120000
DTSTAMP:20260423T234248
CREATED:20220615T145553Z
LAST-MODIFIED:20220615T145553Z
UID:7535-1741651200-1741694400@ctprays.org
SUMMARY:Living Stones Church
DESCRIPTION:
URL:https://ctprays.org/event/living-stones-church/2025-03-11/
LOCATION:Living Stones Church\, New Milford\, CT\, United States
END:VEVENT
BEGIN:VEVENT
DTSTART;TZID=UTC:20250211T000000
DTEND;TZID=UTC:20250211T120000
DTSTAMP:20260423T234248
CREATED:20220615T145553Z
LAST-MODIFIED:20220615T145553Z
UID:7534-1739232000-1739275200@ctprays.org
SUMMARY:Living Stones Church
DESCRIPTION:
URL:https://ctprays.org/event/living-stones-church/2025-02-11/
LOCATION:Living Stones Church\, New Milford\, CT\, United States
END:VEVENT
BEGIN:VEVENT
DTSTART;TZID=UTC:20250114T000000
DTEND;TZID=UTC:20250114T120000
DTSTAMP:20260423T234248
CREATED:20220615T145553Z
LAST-MODIFIED:20220615T145553Z
UID:7533-1736812800-1736856000@ctprays.org
SUMMARY:Living Stones Church
DESCRIPTION:
URL:https://ctprays.org/event/living-stones-church/2025-01-14/
LOCATION:Living Stones Church\, New Milford\, CT\, United States
END:VEVENT
BEGIN:VEVENT
DTSTART;TZID=UTC:20241210T000000
DTEND;TZID=UTC:20241210T120000
DTSTAMP:20260423T234248
CREATED:20220615T145553Z
LAST-MODIFIED:20220615T145553Z
UID:7532-1733788800-1733832000@ctprays.org
SUMMARY:Living Stones Church
DESCRIPTION:
URL:https://ctprays.org/event/living-stones-church/2024-12-10/
LOCATION:Living Stones Church\, New Milford\, CT\, United States
END:VEVENT
BEGIN:VEVENT
DTSTART;TZID=UTC:20241112T000000
DTEND;TZID=UTC:20241112T120000
DTSTAMP:20260423T234248
CREATED:20220615T145553Z
LAST-MODIFIED:20220615T145553Z
UID:7531-1731369600-1731412800@ctprays.org
SUMMARY:Living Stones Church
DESCRIPTION:
URL:https://ctprays.org/event/living-stones-church/2024-11-12/
LOCATION:Living Stones Church\, New Milford\, CT\, United States
END:VEVENT
BEGIN:VEVENT
DTSTART;TZID=UTC:20241008T000000
DTEND;TZID=UTC:20241008T120000
DTSTAMP:20260423T234248
CREATED:20220615T145553Z
LAST-MODIFIED:20220615T145553Z
UID:7530-1728345600-1728388800@ctprays.org
SUMMARY:Living Stones Church
DESCRIPTION:
URL:https://ctprays.org/event/living-stones-church/2024-10-08/
LOCATION:Living Stones Church\, New Milford\, CT\, United States
END:VEVENT
BEGIN:VEVENT
DTSTART;TZID=UTC:20240910T000000
DTEND;TZID=UTC:20240910T120000
DTSTAMP:20260423T234248
CREATED:20220615T145553Z
LAST-MODIFIED:20220615T145553Z
UID:7529-1725926400-1725969600@ctprays.org
SUMMARY:Living Stones Church
DESCRIPTION:
URL:https://ctprays.org/event/living-stones-church/2024-09-10/
LOCATION:Living Stones Church\, New Milford\, CT\, United States
END:VEVENT
BEGIN:VEVENT
DTSTART;TZID=UTC:20240813T000000
DTEND;TZID=UTC:20240813T120000
DTSTAMP:20260423T234248
CREATED:20220615T145553Z
LAST-MODIFIED:20220615T145553Z
UID:7528-1723507200-1723550400@ctprays.org
SUMMARY:Living Stones Church
DESCRIPTION:
URL:https://ctprays.org/event/living-stones-church/2024-08-13/
LOCATION:Living Stones Church\, New Milford\, CT\, United States
END:VEVENT
BEGIN:VEVENT
DTSTART;TZID=UTC:20240709T000000
DTEND;TZID=UTC:20240709T120000
DTSTAMP:20260423T234248
CREATED:20220615T145553Z
LAST-MODIFIED:20220615T145553Z
UID:7527-1720483200-1720526400@ctprays.org
SUMMARY:Living Stones Church
DESCRIPTION:
URL:https://ctprays.org/event/living-stones-church/2024-07-09/
LOCATION:Living Stones Church\, New Milford\, CT\, United States
END:VEVENT
BEGIN:VEVENT
DTSTART;TZID=UTC:20240611T000000
DTEND;TZID=UTC:20240611T120000
DTSTAMP:20260423T234248
CREATED:20220615T145553Z
LAST-MODIFIED:20220615T145553Z
UID:7526-1718064000-1718107200@ctprays.org
SUMMARY:Living Stones Church
DESCRIPTION:
URL:https://ctprays.org/event/living-stones-church/2024-06-11/
LOCATION:Living Stones Church\, New Milford\, CT\, United States
END:VEVENT
BEGIN:VEVENT
DTSTART;TZID=UTC:20240514T000000
DTEND;TZID=UTC:20240514T120000
DTSTAMP:20260423T234248
CREATED:20220615T145553Z
LAST-MODIFIED:20220615T145553Z
UID:7525-1715644800-1715688000@ctprays.org
SUMMARY:Living Stones Church
DESCRIPTION:
URL:https://ctprays.org/event/living-stones-church/2024-05-14/
LOCATION:Living Stones Church\, New Milford\, CT\, United States
END:VEVENT
BEGIN:VEVENT
DTSTART;TZID=UTC:20220712T000000
DTEND;TZID=UTC:20220712T120000
DTSTAMP:20260423T234248
CREATED:20220615T145553Z
LAST-MODIFIED:20240125T211356Z
UID:5456-1657584000-1657627200@ctprays.org
SUMMARY:Living Stones Church
DESCRIPTION:
URL:https://ctprays.org/event/living-stones-church/2022-07-12/
LOCATION:Living Stones Church\, New Milford\, CT\, United States
END:VEVENT
END:VCALENDAR