BEGIN:VCALENDAR
VERSION:2.0
PRODID:-// - ECPv6.15.20//NONSGML v1.0//EN
CALSCALE:GREGORIAN
METHOD:PUBLISH
X-ORIGINAL-URL:https://ctprays.org
X-WR-CALDESC:Events for 
REFRESH-INTERVAL;VALUE=DURATION:PT1H
X-Robots-Tag:noindex
X-PUBLISHED-TTL:PT1H
BEGIN:VTIMEZONE
TZID:UTC
BEGIN:STANDARD
TZOFFSETFROM:+0000
TZOFFSETTO:+0000
TZNAME:UTC
DTSTART:20210101T000000
END:STANDARD
END:VTIMEZONE
BEGIN:VEVENT
DTSTART;TZID=UTC:20251222T000000
DTEND;TZID=UTC:20251223T000000
DTSTAMP:20260423T104029
CREATED:20220614T203010Z
LAST-MODIFIED:20220614T203010Z
UID:7862-1766361600-1766448000@ctprays.org
SUMMARY:Kingdom Life Church
DESCRIPTION:
URL:https://ctprays.org/event/kingdom-life-church/2025-12-22/
LOCATION:Kingdom Life Church\, 597 Naugatuck Avenue\, Milford\, CT\, 06461\, United States
END:VEVENT
BEGIN:VEVENT
DTSTART;TZID=UTC:20251124T000000
DTEND;TZID=UTC:20251125T000000
DTSTAMP:20260423T104029
CREATED:20220614T203010Z
LAST-MODIFIED:20220614T203010Z
UID:7861-1763942400-1764028800@ctprays.org
SUMMARY:Kingdom Life Church
DESCRIPTION:
URL:https://ctprays.org/event/kingdom-life-church/2025-11-24/
LOCATION:Kingdom Life Church\, 597 Naugatuck Avenue\, Milford\, CT\, 06461\, United States
END:VEVENT
BEGIN:VEVENT
DTSTART;TZID=UTC:20251027T000000
DTEND;TZID=UTC:20251028T000000
DTSTAMP:20260423T104029
CREATED:20220614T203010Z
LAST-MODIFIED:20220614T203010Z
UID:7860-1761523200-1761609600@ctprays.org
SUMMARY:Kingdom Life Church
DESCRIPTION:
URL:https://ctprays.org/event/kingdom-life-church/2025-10-27/
LOCATION:Kingdom Life Church\, 597 Naugatuck Avenue\, Milford\, CT\, 06461\, United States
END:VEVENT
BEGIN:VEVENT
DTSTART;TZID=UTC:20250922T000000
DTEND;TZID=UTC:20250923T000000
DTSTAMP:20260423T104029
CREATED:20220614T203010Z
LAST-MODIFIED:20220614T203010Z
UID:7859-1758499200-1758585600@ctprays.org
SUMMARY:Kingdom Life Church
DESCRIPTION:
URL:https://ctprays.org/event/kingdom-life-church/2025-09-22/
LOCATION:Kingdom Life Church\, 597 Naugatuck Avenue\, Milford\, CT\, 06461\, United States
END:VEVENT
BEGIN:VEVENT
DTSTART;TZID=UTC:20250825T000000
DTEND;TZID=UTC:20250826T000000
DTSTAMP:20260423T104029
CREATED:20220614T203010Z
LAST-MODIFIED:20220614T203010Z
UID:7858-1756080000-1756166400@ctprays.org
SUMMARY:Kingdom Life Church
DESCRIPTION:
URL:https://ctprays.org/event/kingdom-life-church/2025-08-25/
LOCATION:Kingdom Life Church\, 597 Naugatuck Avenue\, Milford\, CT\, 06461\, United States
END:VEVENT
BEGIN:VEVENT
DTSTART;TZID=UTC:20250728T000000
DTEND;TZID=UTC:20250729T000000
DTSTAMP:20260423T104029
CREATED:20220614T203010Z
LAST-MODIFIED:20220614T203010Z
UID:7857-1753660800-1753747200@ctprays.org
SUMMARY:Kingdom Life Church
DESCRIPTION:
URL:https://ctprays.org/event/kingdom-life-church/2025-07-28/
LOCATION:Kingdom Life Church\, 597 Naugatuck Avenue\, Milford\, CT\, 06461\, United States
END:VEVENT
BEGIN:VEVENT
DTSTART;TZID=UTC:20250623T000000
DTEND;TZID=UTC:20250624T000000
DTSTAMP:20260423T104029
CREATED:20220614T203010Z
LAST-MODIFIED:20220614T203010Z
UID:7856-1750636800-1750723200@ctprays.org
SUMMARY:Kingdom Life Church
DESCRIPTION:
URL:https://ctprays.org/event/kingdom-life-church/2025-06-23/
LOCATION:Kingdom Life Church\, 597 Naugatuck Avenue\, Milford\, CT\, 06461\, United States
END:VEVENT
BEGIN:VEVENT
DTSTART;TZID=UTC:20250526T000000
DTEND;TZID=UTC:20250527T000000
DTSTAMP:20260423T104029
CREATED:20220614T203010Z
LAST-MODIFIED:20220614T203010Z
UID:7855-1748217600-1748304000@ctprays.org
SUMMARY:Kingdom Life Church
DESCRIPTION:
URL:https://ctprays.org/event/kingdom-life-church/2025-05-26/
LOCATION:Kingdom Life Church\, 597 Naugatuck Avenue\, Milford\, CT\, 06461\, United States
END:VEVENT
BEGIN:VEVENT
DTSTART;TZID=UTC:20250428T000000
DTEND;TZID=UTC:20250429T000000
DTSTAMP:20260423T104029
CREATED:20220614T203010Z
LAST-MODIFIED:20220614T203010Z
UID:7854-1745798400-1745884800@ctprays.org
SUMMARY:Kingdom Life Church
DESCRIPTION:
URL:https://ctprays.org/event/kingdom-life-church/2025-04-28/
LOCATION:Kingdom Life Church\, 597 Naugatuck Avenue\, Milford\, CT\, 06461\, United States
END:VEVENT
BEGIN:VEVENT
DTSTART;TZID=UTC:20250324T000000
DTEND;TZID=UTC:20250325T000000
DTSTAMP:20260423T104029
CREATED:20220614T203010Z
LAST-MODIFIED:20220614T203010Z
UID:7853-1742774400-1742860800@ctprays.org
SUMMARY:Kingdom Life Church
DESCRIPTION:
URL:https://ctprays.org/event/kingdom-life-church/2025-03-24/
LOCATION:Kingdom Life Church\, 597 Naugatuck Avenue\, Milford\, CT\, 06461\, United States
END:VEVENT
BEGIN:VEVENT
DTSTART;TZID=UTC:20250224T000000
DTEND;TZID=UTC:20250225T000000
DTSTAMP:20260423T104029
CREATED:20220614T203010Z
LAST-MODIFIED:20220614T203010Z
UID:7852-1740355200-1740441600@ctprays.org
SUMMARY:Kingdom Life Church
DESCRIPTION:
URL:https://ctprays.org/event/kingdom-life-church/2025-02-24/
LOCATION:Kingdom Life Church\, 597 Naugatuck Avenue\, Milford\, CT\, 06461\, United States
END:VEVENT
BEGIN:VEVENT
DTSTART;TZID=UTC:20250127T000000
DTEND;TZID=UTC:20250128T000000
DTSTAMP:20260423T104029
CREATED:20220614T203010Z
LAST-MODIFIED:20220614T203010Z
UID:7851-1737936000-1738022400@ctprays.org
SUMMARY:Kingdom Life Church
DESCRIPTION:
URL:https://ctprays.org/event/kingdom-life-church/2025-01-27/
LOCATION:Kingdom Life Church\, 597 Naugatuck Avenue\, Milford\, CT\, 06461\, United States
END:VEVENT
BEGIN:VEVENT
DTSTART;TZID=UTC:20241223T000000
DTEND;TZID=UTC:20241224T000000
DTSTAMP:20260423T104029
CREATED:20220614T203010Z
LAST-MODIFIED:20220614T203010Z
UID:7850-1734912000-1734998400@ctprays.org
SUMMARY:Kingdom Life Church
DESCRIPTION:
URL:https://ctprays.org/event/kingdom-life-church/2024-12-23/
LOCATION:Kingdom Life Church\, 597 Naugatuck Avenue\, Milford\, CT\, 06461\, United States
END:VEVENT
BEGIN:VEVENT
DTSTART;TZID=UTC:20241125T000000
DTEND;TZID=UTC:20241126T000000
DTSTAMP:20260423T104029
CREATED:20220614T203010Z
LAST-MODIFIED:20220614T203010Z
UID:7849-1732492800-1732579200@ctprays.org
SUMMARY:Kingdom Life Church
DESCRIPTION:
URL:https://ctprays.org/event/kingdom-life-church/2024-11-25/
LOCATION:Kingdom Life Church\, 597 Naugatuck Avenue\, Milford\, CT\, 06461\, United States
END:VEVENT
BEGIN:VEVENT
DTSTART;TZID=UTC:20241028T000000
DTEND;TZID=UTC:20241029T000000
DTSTAMP:20260423T104029
CREATED:20220614T203010Z
LAST-MODIFIED:20220614T203010Z
UID:7848-1730073600-1730160000@ctprays.org
SUMMARY:Kingdom Life Church
DESCRIPTION:
URL:https://ctprays.org/event/kingdom-life-church/2024-10-28/
LOCATION:Kingdom Life Church\, 597 Naugatuck Avenue\, Milford\, CT\, 06461\, United States
END:VEVENT
BEGIN:VEVENT
DTSTART;TZID=UTC:20240923T000000
DTEND;TZID=UTC:20240924T000000
DTSTAMP:20260423T104029
CREATED:20220614T203010Z
LAST-MODIFIED:20220614T203010Z
UID:7847-1727049600-1727136000@ctprays.org
SUMMARY:Kingdom Life Church
DESCRIPTION:
URL:https://ctprays.org/event/kingdom-life-church/2024-09-23/
LOCATION:Kingdom Life Church\, 597 Naugatuck Avenue\, Milford\, CT\, 06461\, United States
END:VEVENT
BEGIN:VEVENT
DTSTART;TZID=UTC:20240826T000000
DTEND;TZID=UTC:20240827T000000
DTSTAMP:20260423T104029
CREATED:20220614T203010Z
LAST-MODIFIED:20220614T203010Z
UID:7846-1724630400-1724716800@ctprays.org
SUMMARY:Kingdom Life Church
DESCRIPTION:
URL:https://ctprays.org/event/kingdom-life-church/2024-08-26/
LOCATION:Kingdom Life Church\, 597 Naugatuck Avenue\, Milford\, CT\, 06461\, United States
END:VEVENT
BEGIN:VEVENT
DTSTART;TZID=UTC:20240722T000000
DTEND;TZID=UTC:20240723T000000
DTSTAMP:20260423T104029
CREATED:20220614T203010Z
LAST-MODIFIED:20220614T203010Z
UID:7845-1721606400-1721692800@ctprays.org
SUMMARY:Kingdom Life Church
DESCRIPTION:
URL:https://ctprays.org/event/kingdom-life-church/2024-07-22/
LOCATION:Kingdom Life Church\, 597 Naugatuck Avenue\, Milford\, CT\, 06461\, United States
END:VEVENT
BEGIN:VEVENT
DTSTART;TZID=UTC:20240624T000000
DTEND;TZID=UTC:20240625T000000
DTSTAMP:20260423T104029
CREATED:20220614T203010Z
LAST-MODIFIED:20220614T203010Z
UID:7844-1719187200-1719273600@ctprays.org
SUMMARY:Kingdom Life Church
DESCRIPTION:
URL:https://ctprays.org/event/kingdom-life-church/2024-06-24/
LOCATION:Kingdom Life Church\, 597 Naugatuck Avenue\, Milford\, CT\, 06461\, United States
END:VEVENT
BEGIN:VEVENT
DTSTART;TZID=UTC:20240527T000000
DTEND;TZID=UTC:20240528T000000
DTSTAMP:20260423T104029
CREATED:20220614T203010Z
LAST-MODIFIED:20220614T203010Z
UID:7843-1716768000-1716854400@ctprays.org
SUMMARY:Kingdom Life Church
DESCRIPTION:
URL:https://ctprays.org/event/kingdom-life-church/2024-05-27/
LOCATION:Kingdom Life Church\, 597 Naugatuck Avenue\, Milford\, CT\, 06461\, United States
END:VEVENT
BEGIN:VEVENT
DTSTART;TZID=UTC:20240422T000000
DTEND;TZID=UTC:20240423T000000
DTSTAMP:20260423T104029
CREATED:20220614T203010Z
LAST-MODIFIED:20220614T203010Z
UID:7842-1713744000-1713830400@ctprays.org
SUMMARY:Kingdom Life Church
DESCRIPTION:
URL:https://ctprays.org/event/kingdom-life-church/2024-04-22/
LOCATION:Kingdom Life Church\, 597 Naugatuck Avenue\, Milford\, CT\, 06461\, United States
END:VEVENT
BEGIN:VEVENT
DTSTART;TZID=UTC:20220627T000000
DTEND;TZID=UTC:20220628T000000
DTSTAMP:20260423T104029
CREATED:20220614T203010Z
LAST-MODIFIED:20240125T212119Z
UID:4993-1656288000-1656374400@ctprays.org
SUMMARY:Kingdom Life Church
DESCRIPTION:
URL:https://ctprays.org/event/kingdom-life-church/2022-06-27/
LOCATION:Kingdom Life Church\, 597 Naugatuck Avenue\, Milford\, CT\, 06461\, United States
END:VEVENT
END:VCALENDAR